BEGIN:VCALENDAR
VERSION:2.0
PRODID:-//https://www.ascolfa.org//NONSGML kigkonsult.se iCalcreator 2.29.2
 9//
CALSCALE:GREGORIAN
METHOD:PUBLISH
UID:6e02a068-8dd0-4b24-8a0c-e2a47e8dcad4
X-WR-CALNAME:JCal Pro Calendar
X-WR-CALDESC:Tu calendario de eventos online.
X-WR-TIMEZONE:America/Bogota
BEGIN:VTIMEZONE
TZID:America/Bogota
BEGIN:STANDARD
TZNAME:-05
DTSTART:20240722T084455
TZOFFSETFROM:+0000
TZOFFSETTO:-0500
END:STANDARD
END:VTIMEZONE
BEGIN:VEVENT
UID:20220517T010000-05-1806BcH0Xc@https://www.ascolfa.org/
DTSTAMP:20260423T084455Z
CATEGORIES:Asociados
DESCRIPTION:<p>Celebración Día del Maestro</p>
DTSTART;TZID=America/Bogota:20220517T000000
DTEND;TZID=America/Bogota:20220517T235959
SUMMARY:Celebración Día del Maestro
URL:https://www.ascolfa.org/index.php/calendario-ascolfa/12-asociados/108-c
 elebracion-dia-del-maestro
X-ALT-DESC;FMTTYPE=TEXT/HTML:<p>Celebración Día del Maestro</p>
END:VEVENT
END:VCALENDAR
