BEGIN:VCALENDAR
VERSION:2.0
PRODID:-//https://www.ascolfa.org//NONSGML kigkonsult.se iCalcreator 2.29.2
 9//
CALSCALE:GREGORIAN
METHOD:PUBLISH
UID:5217753f-5fab-4d94-afca-2fee84e52a44
X-WR-CALNAME:JCal Pro Calendar
X-WR-CALDESC:Tu calendario de eventos online.
X-WR-TIMEZONE:America/Bogota
BEGIN:VTIMEZONE
TZID:America/Bogota
BEGIN:STANDARD
TZNAME:-05
DTSTART:20240722T084322
TZOFFSETFROM:+0000
TZOFFSETTO:-0500
END:STANDARD
END:VTIMEZONE
BEGIN:VEVENT
UID:20220827T110000-05-83047cuMVs@https://www.ascolfa.org/
DTSTAMP:20260423T084322Z
CATEGORIES:Asociados
DESCRIPTION:<p>Aniversario 36 de Ascolfa</p>
DTSTART;TZID=America/Bogota:20220827T000000
DTEND;TZID=America/Bogota:20220827T235959
SUMMARY:Aniversario 36 de Ascolfa
URL:https://www.ascolfa.org/index.php/calendario-ascolfa/12-asociados/111-a
 niversario-36-de-ascolfa
X-ALT-DESC;FMTTYPE=TEXT/HTML:<p>Aniversario 36 de Ascolfa</p>
END:VEVENT
END:VCALENDAR
