BEGIN:VCALENDAR
VERSION:2.0
PRODID:-//https://www.ascolfa.org//NONSGML kigkonsult.se iCalcreator 2.29.2
 9//
CALSCALE:GREGORIAN
METHOD:PUBLISH
UID:b4fcae8e-e8e4-4641-93d3-136644398f8b
X-WR-CALNAME:JCal Pro Calendar
X-WR-CALDESC:Tu calendario de eventos online.
X-WR-TIMEZONE:America/Bogota
BEGIN:VTIMEZONE
TZID:America/Bogota
BEGIN:STANDARD
TZNAME:-05
DTSTART:20240722T084450
TZOFFSETFROM:+0000
TZOFFSETTO:-0500
END:STANDARD
END:VTIMEZONE
BEGIN:VEVENT
UID:20210317T000000-05-8360OsgePU@https://ascolfa.org/
DTSTAMP:20260423T084450Z
CATEGORIES:Asociados
DESCRIPTION:<p>Asamblea General Ordinaria</p>
DTSTART;TZID=America/Bogota:20210317T000000
DTEND;TZID=America/Bogota:20210317T235959
SUMMARY:Asamblea General Ordinaria
URL:https://www.ascolfa.org/index.php/calendario-ascolfa/12-asociados/12-as
 amblea-general-ordinaria
X-ALT-DESC;FMTTYPE=TEXT/HTML:<p>Asamblea General Ordinaria</p>
END:VEVENT
END:VCALENDAR
