BEGIN:VCALENDAR
VERSION:2.0
PRODID:-//https://www.ascolfa.org//NONSGML kigkonsult.se iCalcreator 2.29.2
 9//
CALSCALE:GREGORIAN
METHOD:PUBLISH
UID:5e219776-08de-472f-aa81-b860ceaeb21d
X-WR-CALNAME:JCal Pro Calendar
X-WR-CALDESC:Tu calendario de eventos online.
X-WR-TIMEZONE:America/Bogota
BEGIN:VTIMEZONE
TZID:America/Bogota
BEGIN:STANDARD
TZNAME:-05
DTSTART:20240719T014820
TZOFFSETFROM:+0000
TZOFFSETTO:-0500
END:STANDARD
END:VTIMEZONE
BEGIN:VEVENT
UID:20231019T070000-05-7163XBsdBi@https://ascolfa.org/
DTSTAMP:20260420T014820Z
CATEGORIES:Educativo
DESCRIPTION:<p>Encuentro de investigación - Capítulo Suroccidente</p>
DTSTART;TZID=America/Bogota:20231019T000000
DTEND;TZID=America/Bogota:20231019T235959
SUMMARY:Encuentro de investigación - Capítulo Suroccidente
URL:https://www.ascolfa.org/index.php/calendario-ascolfa/13-educativo/123-e
 ncuentro-de-investigacion-capitulo-suroccidente
X-ALT-DESC;FMTTYPE=TEXT/HTML:<p>Encuentro de investigación - Capítulo Suroc
 cidente</p>
END:VEVENT
END:VCALENDAR
