BEGIN:VCALENDAR
VERSION:2.0
PRODID:-//https://www.ascolfa.org//NONSGML kigkonsult.se iCalcreator 2.29.2
 9//
CALSCALE:GREGORIAN
METHOD:PUBLISH
UID:fc7f2a88-eba2-4c03-b6ba-c8e77dbd00e4
X-WR-CALNAME:JCal Pro Calendar
X-WR-CALDESC:Tu calendario de eventos online.
X-WR-TIMEZONE:America/Bogota
BEGIN:VTIMEZONE
TZID:America/Bogota
BEGIN:STANDARD
TZNAME:-05
DTSTART:20240722T094425
TZOFFSETFROM:+0000
TZOFFSETTO:-0500
END:STANDARD
END:VTIMEZONE
BEGIN:VEVENT
UID:20220214T110000-05-4184Lu3IlV@https://www.ascolfa.org/
DTSTAMP:20260423T094425Z
CATEGORIES:General
DESCRIPTION:<p>Día del Contador </p>
DTSTART;TZID=America/Bogota:20220301T000000
DTEND;TZID=America/Bogota:20220301T235959
SUMMARY:Día del Contador
URL:https://www.ascolfa.org/index.php/calendario-ascolfa/16-general/104-dia
 -del-contador
X-ALT-DESC;FMTTYPE=TEXT/HTML:<p>Día del Contador </p>
END:VEVENT
END:VCALENDAR
