BEGIN:VCALENDAR
VERSION:2.0
PRODID:-//https://www.ascolfa.org//NONSGML kigkonsult.se iCalcreator 2.29.2
 9//
CALSCALE:GREGORIAN
METHOD:PUBLISH
UID:dde08e24-f0b6-4556-a304-024c6c1b762e
X-WR-CALNAME:JCal Pro Calendar
X-WR-CALDESC:Tu calendario de eventos online.
X-WR-TIMEZONE:America/Bogota
BEGIN:VTIMEZONE
TZID:America/Bogota
BEGIN:STANDARD
TZNAME:-05
DTSTART:20240722T101030
TZOFFSETFROM:+0000
TZOFFSETTO:-0500
END:STANDARD
END:VTIMEZONE
BEGIN:VEVENT
UID:20230516T210000-05-2742pIez78@https://ascolfa.org/
DTSTAMP:20260423T101030Z
CATEGORIES:General
DESCRIPTION:<p>Premios ASCOLFA 2023 - Día del Maestro</p>
DTSTART;TZID=America/Bogota:20230516T210000
DTEND;TZID=America/Bogota:20230517T000000
SUMMARY:Premios ASCOLFA 2023 - Día del Maestro
URL:https://www.ascolfa.org/index.php/calendario-ascolfa/16-general/118-pre
 mios-ascolfa-2023-dia-del-maestro
X-ALT-DESC;FMTTYPE=TEXT/HTML:<p>Premios ASCOLFA 2023 - Día del Maestro</p>
END:VEVENT
END:VCALENDAR
