BEGIN:VCALENDAR
VERSION:2.0
PRODID:-//https://www.ascolfa.org//NONSGML kigkonsult.se iCalcreator 2.29.2
 9//
CALSCALE:GREGORIAN
METHOD:PUBLISH
UID:9d963fa5-9539-4801-8ae0-0bd65f533295
X-WR-CALNAME:JCal Pro Calendar
X-WR-CALDESC:Tu calendario de eventos online.
X-WR-TIMEZONE:America/Bogota
BEGIN:VTIMEZONE
TZID:America/Bogota
BEGIN:STANDARD
TZNAME:-05
DTSTART:20240718T141829
TZOFFSETFROM:+0000
TZOFFSETTO:-0500
END:STANDARD
END:VTIMEZONE
BEGIN:VEVENT
UID:20240318T000000-05-8663gJ9cF9@https://ascolfa.org/
DTSTAMP:20260419T141829Z
CATEGORIES:General
DESCRIPTION:<p>Día del profesional en Negocios Internacionales</p>
DTSTART;TZID=America/Bogota:20240318T000000
DTEND;TZID=America/Bogota:20240318T235959
RRULE:FREQ=YEARLY;COUNT=2;INTERVAL=1
SUMMARY:Día del profesional en Negocios Internacionales
URL:https://www.ascolfa.org/index.php/calendario-ascolfa/16-general/135-dia
 -de-negocios-internacionales
X-ALT-DESC;FMTTYPE=TEXT/HTML:<p>Día del profesional en Negocios Internacion
 ales</p>
END:VEVENT
END:VCALENDAR
