BEGIN:VCALENDAR
VERSION:2.0
PRODID:-//https://www.ascolfa.org//NONSGML kigkonsult.se iCalcreator 2.29.2
 9//
CALSCALE:GREGORIAN
METHOD:PUBLISH
UID:f9f74219-8b50-4894-af79-c72b62766d59
X-WR-CALNAME:JCal Pro Calendar
X-WR-CALDESC:Tu calendario de eventos online.
X-WR-TIMEZONE:America/Bogota
BEGIN:VTIMEZONE
TZID:America/Bogota
BEGIN:STANDARD
TZNAME:-05
DTSTART:20240722T100944
TZOFFSETFROM:+0000
TZOFFSETTO:-0500
END:STANDARD
END:VTIMEZONE
BEGIN:VEVENT
UID:20240117T000000-05-7600jzbsmc@https://ascolfa.org/
DTSTAMP:20260423T100944Z
CATEGORIES:General
DESCRIPTION:<p>Día del Mercadólogo</p>
DTSTART;TZID=America/Bogota:20240519T000000
DTEND;TZID=America/Bogota:20240519T235959
RRULE:FREQ=YEARLY;COUNT=2;INTERVAL=1
SUMMARY:Día del Mercadólogo
URL:https://www.ascolfa.org/index.php/calendario-ascolfa/16-general/136-dia
 -del-mercadologo
X-ALT-DESC;FMTTYPE=TEXT/HTML:<p>Día del Mercadólogo</p>
END:VEVENT
END:VCALENDAR
