BEGIN:VCALENDAR
VERSION:2.0
PRODID:-//https://www.ascolfa.org//NONSGML kigkonsult.se iCalcreator 2.29.2
 9//
CALSCALE:GREGORIAN
METHOD:PUBLISH
UID:3c4f5b2b-f000-43d9-93f3-b325a9fb2517
X-WR-CALNAME:JCal Pro Calendar
X-WR-CALDESC:Tu calendario de eventos online.
X-WR-TIMEZONE:America/Bogota
BEGIN:VTIMEZONE
TZID:America/Bogota
BEGIN:STANDARD
TZNAME:-05
DTSTART:20240722T101322
TZOFFSETFROM:+0000
TZOFFSETTO:-0500
END:STANDARD
END:VTIMEZONE
BEGIN:VEVENT
UID:20251104T070000-05-5367bOZk3H@https://ascolfa.org/
DTSTAMP:20260423T101322Z
CATEGORIES:General
DESCRIPTION:<p>Celebración Regional Día del Administrador y Reconocimientos
  a Egresados Distinguidos - 2025. Organizado por: ASCOLFA - Capítulos Regi
 onales</p>
DTSTART;TZID=America/Bogota:20251104T070000
DTEND;TZID=America/Bogota:20251114T190000
SUMMARY:Celebración Regional Día del Administrador y Reconocimientos a Egre
 sados Distinguidos - 2025
URL:https://www.ascolfa.org/index.php/calendario-ascolfa/16-general/168-cel
 ebracion-regional-dia-del-administrador-y-reconocimientos-a-egresados-dist
 inguidos-2025
X-ALT-DESC;FMTTYPE=TEXT/HTML:<p>Celebración Regional Día del Administrador 
 y Reconocimientos a Egresados Distinguidos - 2025. Organizado por: ASCOLFA
  - Capítulos Regionales</p>
END:VEVENT
END:VCALENDAR
