BEGIN:VCALENDAR
VERSION:2.0
PRODID:-//https://www.ascolfa.org//NONSGML kigkonsult.se iCalcreator 2.29.2
 9//
CALSCALE:GREGORIAN
METHOD:PUBLISH
UID:345399a5-0218-4ad4-a0e6-59f720a66fd3
X-WR-CALNAME:JCal Pro Calendar
X-WR-CALDESC:Tu calendario de eventos online.
X-WR-TIMEZONE:America/Bogota
BEGIN:VTIMEZONE
TZID:America/Bogota
BEGIN:STANDARD
TZNAME:-05
DTSTART:20240722T082858
TZOFFSETFROM:+0000
TZOFFSETTO:-0500
END:STANDARD
END:VTIMEZONE
BEGIN:VEVENT
UID:20210426T110000-05-9150hIVgEC@https://ascolfa.org/
DTSTAMP:20260423T082858Z
CATEGORIES:General
DESCRIPTION:<p>Día de la Secretaria</p>
DTSTART;TZID=America/Bogota:20210426T000000
DTEND;TZID=America/Bogota:20210426T235959
SUMMARY:Día de la Secretaria
URL:https://www.ascolfa.org/index.php/calendario-ascolfa/16-general/22-dia-
 de-la-secretaria
X-ALT-DESC;FMTTYPE=TEXT/HTML:<p>Día de la Secretaria</p>
END:VEVENT
END:VCALENDAR
