BEGIN:VCALENDAR
VERSION:2.0
PRODID:-//https://www.ascolfa.org//NONSGML kigkonsult.se iCalcreator 2.29.2
 9//
CALSCALE:GREGORIAN
METHOD:PUBLISH
UID:1c9dc35e-bf10-419e-8493-711f28b0d31a
X-WR-CALNAME:JCal Pro Calendar
X-WR-CALDESC:Tu calendario de eventos online.
X-WR-TIMEZONE:America/Bogota
BEGIN:VTIMEZONE
TZID:America/Bogota
BEGIN:STANDARD
TZNAME:-05
DTSTART:20240722T082929
TZOFFSETFROM:+0000
TZOFFSETTO:-0500
END:STANDARD
END:VTIMEZONE
BEGIN:VEVENT
UID:20211204T110000-05-4404o1DXAg@https://ascolfa.org/
DTSTAMP:20260423T082929Z
CATEGORIES:General
DESCRIPTION:<p>Día del Publicista</p>
DTSTART;TZID=America/Bogota:20201204T000000
DTEND;TZID=America/Bogota:20201204T235959
RRULE:FREQ=YEARLY;COUNT=2;INTERVAL=1
SUMMARY:Día del Publicista
URL:https://www.ascolfa.org/index.php/calendario-ascolfa/16-general/27-dia-
 del-publicista
X-ALT-DESC;FMTTYPE=TEXT/HTML:<p>Día del Publicista</p>
END:VEVENT
END:VCALENDAR
