BEGIN:VCALENDAR
VERSION:2.0
PRODID:-//https://www.ascolfa.org//NONSGML kigkonsult.se iCalcreator 2.29.2
 9//
CALSCALE:GREGORIAN
METHOD:PUBLISH
UID:a74eb910-cfa5-405d-96ef-89b38df340b8
X-WR-CALNAME:JCal Pro Calendar
X-WR-CALDESC:Tu calendario de eventos online.
X-WR-TIMEZONE:America/Bogota
BEGIN:VTIMEZONE
TZID:America/Bogota
BEGIN:STANDARD
TZNAME:-05
DTSTART:20240721T102017
TZOFFSETFROM:+0000
TZOFFSETTO:-0500
END:STANDARD
END:VTIMEZONE
BEGIN:VEVENT
UID:20220703T110000-05-95668kFd4G@https://www.ascolfa.org/
DTSTAMP:20260422T102017Z
CATEGORIES:Días Festivos
DESCRIPTION:<p>Día del Economista</p>
DTSTART;TZID=America/Bogota:20220703T000000
DTEND;TZID=America/Bogota:20220703T235959
SUMMARY:Día del Economista
URL:https://www.ascolfa.org/index.php/calendario-ascolfa/18-dias-festivos/1
 09-dia-del-economista
X-ALT-DESC;FMTTYPE=TEXT/HTML:<p>Día del Economista</p>
END:VEVENT
END:VCALENDAR
