BEGIN:VCALENDAR
VERSION:2.0
PRODID:-//https://www.ascolfa.org//NONSGML kigkonsult.se iCalcreator 2.29.2
 9//
CALSCALE:GREGORIAN
METHOD:PUBLISH
UID:fe72bfe8-b7bc-41f3-8d86-c896df2d81ef
X-WR-CALNAME:JCal Pro Calendar
X-WR-CALDESC:Tu calendario de eventos online.
X-WR-TIMEZONE:America/Bogota
BEGIN:VTIMEZONE
TZID:America/Bogota
BEGIN:STANDARD
TZNAME:-05
DTSTART:20240721T100839
TZOFFSETFROM:+0000
TZOFFSETTO:-0500
END:STANDARD
END:VTIMEZONE
BEGIN:VEVENT
UID:20210720T010000-05-3538havoXA@https://www.ascolfa.org/
DTSTAMP:20260422T100839Z
CATEGORIES:Días Festivos
DESCRIPTION:<p><span style='font-size: 12pt\;'><strong>Día de la Independen
 cia</strong></span></p>
DTSTART;TZID=America/Bogota:20210720T000000
DTEND;TZID=America/Bogota:20210720T235959
SUMMARY:Día Festivo
URL:https://www.ascolfa.org/index.php/calendario-ascolfa/18-dias-festivos/8
 9-dia-festivo
X-ALT-DESC;FMTTYPE=TEXT/HTML:<p><span style='font-size: 12pt\;'><strong>Día
  de la Independencia</strong></span></p>
END:VEVENT
END:VCALENDAR
