BEGIN:VCALENDAR
VERSION:2.0
PRODID:-//https://www.ascolfa.org//NONSGML kigkonsult.se iCalcreator 2.29.2
 9//
CALSCALE:GREGORIAN
METHOD:PUBLISH
UID:6597c833-0ca6-4fc1-bddd-cbca32d88eec
X-WR-CALNAME:JCal Pro Calendar
X-WR-CALDESC:Tu calendario de eventos online.
X-WR-TIMEZONE:America/Bogota
BEGIN:VTIMEZONE
TZID:America/Bogota
BEGIN:STANDARD
TZNAME:-05
DTSTART:20240721T093331
TZOFFSETFROM:+0000
TZOFFSETTO:-0500
END:STANDARD
END:VTIMEZONE
BEGIN:VEVENT
UID:20211018T010000-05-4792Fm6Uo6@https://www.ascolfa.org/
DTSTAMP:20260422T093331Z
CATEGORIES:Días Festivos
DESCRIPTION:<p><span style='font-size: 12pt\;'><strong>Día de la Raza</stro
 ng></span></p>
DTSTART;TZID=America/Bogota:20211018T000000
DTEND;TZID=America/Bogota:20211018T235959
SUMMARY:Día Festivo
URL:https://www.ascolfa.org/index.php/calendario-ascolfa/18-dias-festivos/9
 2-dia-festivo
X-ALT-DESC;FMTTYPE=TEXT/HTML:<p><span style='font-size: 12pt\;'><strong>Día
  de la Raza</strong></span></p>
END:VEVENT
END:VCALENDAR
