BEGIN:VCALENDAR
VERSION:2.0
PRODID:-//https://www.ascolfa.org//NONSGML kigkonsult.se iCalcreator 2.29.2
 9//
CALSCALE:GREGORIAN
METHOD:PUBLISH
UID:59463f25-5f03-4218-b8eb-3e328fb6ae82
X-WR-CALNAME:JCal Pro Calendar
X-WR-CALDESC:Tu calendario de eventos online.
X-WR-TIMEZONE:America/Bogota
BEGIN:VTIMEZONE
TZID:America/Bogota
BEGIN:STANDARD
TZNAME:-05
DTSTART:20240721T083130
TZOFFSETFROM:+0000
TZOFFSETTO:-0500
END:STANDARD
END:VTIMEZONE
BEGIN:VEVENT
UID:20210101T010000-05-2810KSvjnv@https://www.ascolfa.org/
DTSTAMP:20260422T083130Z
CATEGORIES:Días Festivos
DESCRIPTION:<p><span style='font-size: 12pt\;'><strong>Año Nuevo</strong></
 span></p>
DTSTART;TZID=America/Bogota:20210101T000000
DTEND;TZID=America/Bogota:20210101T235959
SUMMARY:Día Festivo
URL:https://www.ascolfa.org/index.php/calendario-ascolfa/18-dias-festivos/7
 9-dia-festivo
X-ALT-DESC;FMTTYPE=TEXT/HTML:<p><span style='font-size: 12pt\;'><strong>Año
  Nuevo</strong></span></p>
END:VEVENT
BEGIN:VEVENT
UID:20210111T010000-05-6494ltoNw0@https://www.ascolfa.org/
DTSTAMP:20260422T083130Z
CATEGORIES:Días Festivos
DESCRIPTION:<p><span style='font-size: 12pt\;'><strong>Día de los Reyes Mag
 os</strong></span></p>
DTSTART;TZID=America/Bogota:20210111T000000
DTEND;TZID=America/Bogota:20210111T235959
SUMMARY:Día Festivo
URL:https://www.ascolfa.org/index.php/calendario-ascolfa/18-dias-festivos/8
 0-dia-festivo
X-ALT-DESC;FMTTYPE=TEXT/HTML:<p><span style='font-size: 12pt\;'><strong>Día
  de los Reyes Magos</strong></span></p>
END:VEVENT
BEGIN:VEVENT
UID:20210322T010000-05-6525MHt3r3@https://www.ascolfa.org/
DTSTAMP:20260422T083130Z
CATEGORIES:Días Festivos
DESCRIPTION:<p><span style='font-size: 12pt\;'><strong>Día de San José</str
 ong></span></p>
DTSTART;TZID=America/Bogota:20210322T010000
DTEND;TZID=America/Bogota:20210322T020000
SUMMARY:Día Festivo
URL:https://www.ascolfa.org/index.php/calendario-ascolfa/18-dias-festivos/8
 1-dia-festivo
X-ALT-DESC;FMTTYPE=TEXT/HTML:<p><span style='font-size: 12pt\;'><strong>Día
  de San José</strong></span></p>
END:VEVENT
BEGIN:VEVENT
UID:20210401T010000-05-5093gpKf7d@https://www.ascolfa.org/
DTSTAMP:20260422T083130Z
CATEGORIES:Días Festivos
DESCRIPTION:<p><span style='font-size: 12pt\;'><strong>Jueves Santo</strong
 ></span></p>
DTSTART;TZID=America/Bogota:20210401T000000
DTEND;TZID=America/Bogota:20210401T235959
SUMMARY:Día Festivo
URL:https://www.ascolfa.org/index.php/calendario-ascolfa/18-dias-festivos/8
 2-dia-festivo
X-ALT-DESC;FMTTYPE=TEXT/HTML:<p><span style='font-size: 12pt\;'><strong>Jue
 ves Santo</strong></span></p>
END:VEVENT
BEGIN:VEVENT
UID:20210402T010000-05-3797DVwdNl@https://www.ascolfa.org/
DTSTAMP:20260422T083130Z
CATEGORIES:Días Festivos
DESCRIPTION:<p><span style='font-size: 12pt\;'><strong>Viernes Santo</stron
 g></span></p>
DTSTART;TZID=America/Bogota:20210402T000000
DTEND;TZID=America/Bogota:20210402T235959
SUMMARY:Día Festivo
URL:https://www.ascolfa.org/index.php/calendario-ascolfa/18-dias-festivos/8
 3-dia-festivo
X-ALT-DESC;FMTTYPE=TEXT/HTML:<p><span style='font-size: 12pt\;'><strong>Vie
 rnes Santo</strong></span></p>
END:VEVENT
BEGIN:VEVENT
UID:20210501T010000-05-7177aIl1BS@https://www.ascolfa.org/
DTSTAMP:20260422T083130Z
CATEGORIES:Días Festivos
DESCRIPTION:<p><span style='font-size: 12pt\;'><strong>Día del Trabajador</
 strong></span></p>
DTSTART;TZID=America/Bogota:20210501T000000
DTEND;TZID=America/Bogota:20210501T235959
SUMMARY:Día Festivo
URL:https://www.ascolfa.org/index.php/calendario-ascolfa/18-dias-festivos/8
 4-dia-festivo
X-ALT-DESC;FMTTYPE=TEXT/HTML:<p><span style='font-size: 12pt\;'><strong>Día
  del Trabajador</strong></span></p>
END:VEVENT
BEGIN:VEVENT
UID:20210517T010000-05-9505WjMmzu@https://www.ascolfa.org/
DTSTAMP:20260422T083130Z
CATEGORIES:Días Festivos
DESCRIPTION:<p><span style='font-size: 12pt\;'><strong>Día de la Ascensión<
 /strong></span></p>
DTSTART;TZID=America/Bogota:20210517T000000
DTEND;TZID=America/Bogota:20210517T235959
SUMMARY:Día Festivo
URL:https://www.ascolfa.org/index.php/calendario-ascolfa/18-dias-festivos/8
 5-dia-festivo
X-ALT-DESC;FMTTYPE=TEXT/HTML:<p><span style='font-size: 12pt\;'><strong>Día
  de la Ascensión</strong></span></p>
END:VEVENT
BEGIN:VEVENT
UID:20210603T010000-05-6581nBTvlR@https://www.ascolfa.org/
DTSTAMP:20260422T083130Z
CATEGORIES:Días Festivos
DESCRIPTION:<p>Día Festivo</p>
DTSTART;TZID=America/Bogota:20210603T000000
DTEND;TZID=America/Bogota:20210603T235959
SUMMARY:Día Festivo
URL:https://www.ascolfa.org/index.php/calendario-ascolfa/18-dias-festivos/8
 6-dia-festivo
X-ALT-DESC;FMTTYPE=TEXT/HTML:<p>Día Festivo</p>
END:VEVENT
BEGIN:VEVENT
UID:20210614T010000-05-6668ARmvuS@https://www.ascolfa.org/
DTSTAMP:20260422T083130Z
CATEGORIES:Días Festivos
DESCRIPTION:<p><span style='font-size: 12pt\;'><strong>Sagrado Corazón</str
 ong></span></p>
DTSTART;TZID=America/Bogota:20210614T000000
DTEND;TZID=America/Bogota:20210614T235959
SUMMARY:Día Festivo
URL:https://www.ascolfa.org/index.php/calendario-ascolfa/18-dias-festivos/8
 7-dia-festivo
X-ALT-DESC;FMTTYPE=TEXT/HTML:<p><span style='font-size: 12pt\;'><strong>Sag
 rado Corazón</strong></span></p>
END:VEVENT
BEGIN:VEVENT
UID:20210705T010000-05-8410s7KI4V@https://www.ascolfa.org/
DTSTAMP:20260422T083130Z
CATEGORIES:Días Festivos
DESCRIPTION:<p><span style='font-size: 12pt\;'><strong>San Pedro y San Pabl
 o</strong></span></p>
DTSTART;TZID=America/Bogota:20210705T000000
DTEND;TZID=America/Bogota:20210705T235959
SUMMARY:Día Festivo
URL:https://www.ascolfa.org/index.php/calendario-ascolfa/18-dias-festivos/8
 8-dia-festivo
X-ALT-DESC;FMTTYPE=TEXT/HTML:<p><span style='font-size: 12pt\;'><strong>San
  Pedro y San Pablo</strong></span></p>
END:VEVENT
BEGIN:VEVENT
UID:20210720T010000-05-3538havoXA@https://www.ascolfa.org/
DTSTAMP:20260422T083130Z
CATEGORIES:Días Festivos
DESCRIPTION:<p><span style='font-size: 12pt\;'><strong>Día de la Independen
 cia</strong></span></p>
DTSTART;TZID=America/Bogota:20210720T000000
DTEND;TZID=America/Bogota:20210720T235959
SUMMARY:Día Festivo
URL:https://www.ascolfa.org/index.php/calendario-ascolfa/18-dias-festivos/8
 9-dia-festivo
X-ALT-DESC;FMTTYPE=TEXT/HTML:<p><span style='font-size: 12pt\;'><strong>Día
  de la Independencia</strong></span></p>
END:VEVENT
BEGIN:VEVENT
UID:20210807T010000-05-1375D7MZU2@https://www.ascolfa.org/
DTSTAMP:20260422T083130Z
CATEGORIES:Días Festivos
DESCRIPTION:<p><span style='font-size: 12pt\;'><strong>Batalla de Boyacá</s
 trong></span></p>
DTSTART;TZID=America/Bogota:20210807T000000
DTEND;TZID=America/Bogota:20210807T235959
SUMMARY:Día Festivo
URL:https://www.ascolfa.org/index.php/calendario-ascolfa/18-dias-festivos/9
 0-dia-festivo
X-ALT-DESC;FMTTYPE=TEXT/HTML:<p><span style='font-size: 12pt\;'><strong>Bat
 alla de Boyacá</strong></span></p>
END:VEVENT
BEGIN:VEVENT
UID:20210816T010000-05-8298xZGMCp@https://www.ascolfa.org/
DTSTAMP:20260422T083130Z
CATEGORIES:Días Festivos
DESCRIPTION:<p><span style='font-size: 12pt\;'><strong>La asunción de la Vi
 rgen</strong></span></p>
DTSTART;TZID=America/Bogota:20210816T000000
DTEND;TZID=America/Bogota:20210816T235959
SUMMARY:Día Festivo
URL:https://www.ascolfa.org/index.php/calendario-ascolfa/18-dias-festivos/9
 1-dia-festivo
X-ALT-DESC;FMTTYPE=TEXT/HTML:<p><span style='font-size: 12pt\;'><strong>La 
 asunción de la Virgen</strong></span></p>
END:VEVENT
BEGIN:VEVENT
UID:20211018T010000-05-4792Fm6Uo6@https://www.ascolfa.org/
DTSTAMP:20260422T083130Z
CATEGORIES:Días Festivos
DESCRIPTION:<p><span style='font-size: 12pt\;'><strong>Día de la Raza</stro
 ng></span></p>
DTSTART;TZID=America/Bogota:20211018T000000
DTEND;TZID=America/Bogota:20211018T235959
SUMMARY:Día Festivo
URL:https://www.ascolfa.org/index.php/calendario-ascolfa/18-dias-festivos/9
 2-dia-festivo
X-ALT-DESC;FMTTYPE=TEXT/HTML:<p><span style='font-size: 12pt\;'><strong>Día
  de la Raza</strong></span></p>
END:VEVENT
BEGIN:VEVENT
UID:20211101T010000-05-9307RjtV4J@https://www.ascolfa.org/
DTSTAMP:20260422T083130Z
CATEGORIES:Días Festivos
DESCRIPTION:<p><span style='font-size: 12pt\;'><strong>Día de los Difuntos<
 /strong></span></p>
DTSTART;TZID=America/Bogota:20211101T000000
DTEND;TZID=America/Bogota:20211101T235959
SUMMARY:Día Festivo
URL:https://www.ascolfa.org/index.php/calendario-ascolfa/18-dias-festivos/9
 3-dia-festivo
X-ALT-DESC;FMTTYPE=TEXT/HTML:<p><span style='font-size: 12pt\;'><strong>Día
  de los Difuntos</strong></span></p>
END:VEVENT
BEGIN:VEVENT
UID:20211115T010000-05-8523LFTt3O@https://www.ascolfa.org/
DTSTAMP:20260422T083130Z
CATEGORIES:Días Festivos
DESCRIPTION:<p><span style='font-size: 12pt\;'><strong>Independencia de Car
 tagena</strong></span></p>
DTSTART;TZID=America/Bogota:20211115T000000
DTEND;TZID=America/Bogota:20211115T235959
SUMMARY:Día Festivo
URL:https://www.ascolfa.org/index.php/calendario-ascolfa/18-dias-festivos/9
 4-dia-festivo
X-ALT-DESC;FMTTYPE=TEXT/HTML:<p><span style='font-size: 12pt\;'><strong>Ind
 ependencia de Cartagena</strong></span></p>
END:VEVENT
BEGIN:VEVENT
UID:20211208T010000-05-4880JIajK9@https://www.ascolfa.org/
DTSTAMP:20260422T083130Z
CATEGORIES:Días Festivos
DESCRIPTION:<p><span style='font-size: 12pt\;'><strong>Día de la Inmaculada
  Concepción</strong></span></p>
DTSTART;TZID=America/Bogota:20211208T000000
DTEND;TZID=America/Bogota:20211208T235959
SUMMARY:Día Festivo
URL:https://www.ascolfa.org/index.php/calendario-ascolfa/18-dias-festivos/9
 5-dia-festivo
X-ALT-DESC;FMTTYPE=TEXT/HTML:<p><span style='font-size: 12pt\;'><strong>Día
  de la Inmaculada Concepción</strong></span></p>
END:VEVENT
BEGIN:VEVENT
UID:20211225T010000-05-9010enugab@https://www.ascolfa.org/
DTSTAMP:20260422T083130Z
CATEGORIES:Días Festivos
DESCRIPTION:<p><span style='font-size: 12pt\;'><strong>Navidad</strong></sp
 an></p>
DTSTART;TZID=America/Bogota:20211225T000000
DTEND;TZID=America/Bogota:20211225T235959
SUMMARY:Día Festivo
URL:https://www.ascolfa.org/index.php/calendario-ascolfa/18-dias-festivos/9
 6-dia-festivo
X-ALT-DESC;FMTTYPE=TEXT/HTML:<p><span style='font-size: 12pt\;'><strong>Nav
 idad</strong></span></p>
END:VEVENT
BEGIN:VEVENT
UID:20220515T010000-05-4880Nwg6TI@https://www.ascolfa.org/
DTSTAMP:20260422T083130Z
CATEGORIES:Días Festivos
DESCRIPTION:<p>Día del Maestro</p>
DTSTART;TZID=America/Bogota:20220515T000000
DTEND;TZID=America/Bogota:20220515T235959
SUMMARY:Día del Maestro
URL:https://www.ascolfa.org/index.php/calendario-ascolfa/18-dias-festivos/1
 07-dia-del-maestro
X-ALT-DESC;FMTTYPE=TEXT/HTML:<p>Día del Maestro</p>
END:VEVENT
BEGIN:VEVENT
UID:20220703T110000-05-95668kFd4G@https://www.ascolfa.org/
DTSTAMP:20260422T083130Z
CATEGORIES:Días Festivos
DESCRIPTION:<p>Día del Economista</p>
DTSTART;TZID=America/Bogota:20220703T000000
DTEND;TZID=America/Bogota:20220703T235959
SUMMARY:Día del Economista
URL:https://www.ascolfa.org/index.php/calendario-ascolfa/18-dias-festivos/1
 09-dia-del-economista
X-ALT-DESC;FMTTYPE=TEXT/HTML:<p>Día del Economista</p>
END:VEVENT
END:VCALENDAR
