BEGIN:VCALENDAR
VERSION:2.0
PRODID:-//https://www.ascolfa.org//NONSGML kigkonsult.se iCalcreator 2.29.2
 9//
CALSCALE:GREGORIAN
METHOD:PUBLISH
UID:64d408b1-a234-41a6-af18-0d1cb525c3d3
X-WR-CALNAME:JCal Pro Calendar
X-WR-CALDESC:Tu calendario de eventos online.
X-WR-TIMEZONE:America/Bogota
BEGIN:VTIMEZONE
TZID:America/Bogota
BEGIN:STANDARD
TZNAME:-05
DTSTART:20240722T100616
TZOFFSETFROM:+0000
TZOFFSETTO:-0500
END:STANDARD
END:VTIMEZONE
BEGIN:VEVENT
UID:20210605T110000-05-05662T1xm5@https://ascolfa.org/
DTSTAMP:20260423T100616Z
CATEGORIES:General
DESCRIPTION:<p>Día Mundial del Medio Ambiente</p>
DTSTART;TZID=America/Bogota:20210605T000000
DTEND;TZID=America/Bogota:20210605T235959
SUMMARY:Día Mundial del Medio Ambiente
URL:https://www.ascolfa.org/index.php/calendario-ascolfa/16-general/28-dia-
 mundial-del-medio-ambiente
X-ALT-DESC;FMTTYPE=TEXT/HTML:<p>Día Mundial del Medio Ambiente</p>
END:VEVENT
END:VCALENDAR
