BEGIN:VCALENDAR
VERSION:2.0
PRODID:-//https://www.ascolfa.org//NONSGML kigkonsult.se iCalcreator 2.29.2
 9//
CALSCALE:GREGORIAN
METHOD:PUBLISH
UID:0659e2d9-4910-4db2-ae96-d4972b38fd40
X-WR-CALNAME:JCal Pro Calendar
X-WR-CALDESC:Tu calendario de eventos online.
X-WR-TIMEZONE:America/Bogota
BEGIN:VTIMEZONE
TZID:America/Bogota
BEGIN:STANDARD
TZNAME:-05
DTSTART:20240721T111312
TZOFFSETFROM:+0000
TZOFFSETTO:-0500
END:STANDARD
END:VTIMEZONE
BEGIN:VEVENT
UID:20220515T010000-05-4880Nwg6TI@https://www.ascolfa.org/
DTSTAMP:20260422T111312Z
CATEGORIES:Días Festivos
DESCRIPTION:<p>Día del Maestro</p>
DTSTART;TZID=America/Bogota:20220515T000000
DTEND;TZID=America/Bogota:20220515T235959
SUMMARY:Día del Maestro
URL:https://www.ascolfa.org/index.php/calendario-ascolfa/18-dias-festivos/1
 07-dia-del-maestro
X-ALT-DESC;FMTTYPE=TEXT/HTML:<p>Día del Maestro</p>
END:VEVENT
END:VCALENDAR
