BEGIN:VCALENDAR
VERSION:2.0
PRODID:-//https://www.ascolfa.org//NONSGML kigkonsult.se iCalcreator 2.29.2
 9//
CALSCALE:GREGORIAN
METHOD:PUBLISH
UID:59031a68-02f9-4444-82ce-5fd74ed264d9
X-WR-CALNAME:JCal Pro Calendar
X-WR-CALDESC:Tu calendario de eventos online.
X-WR-TIMEZONE:America/Bogota
BEGIN:VTIMEZONE
TZID:America/Bogota
BEGIN:STANDARD
TZNAME:-05
DTSTART:20240722T214607
TZOFFSETFROM:+0000
TZOFFSETTO:-0500
END:STANDARD
END:VTIMEZONE
BEGIN:VEVENT
UID:20230616T180000-05-1918hBt9Jp@https://ascolfa.org/
DTSTAMP:20260423T214607Z
CATEGORIES:Educativo
DESCRIPTION:<p>Curso Internacional de Verano - Módulo 2</p>\n<p>Dirección e
 stratégica y gestión de la innovación</p>
DTSTART;TZID=America/Bogota:20230616T180000
DTEND;TZID=America/Bogota:20230621T210000
SUMMARY:Curso Internacional de Verano - Módulo 2
URL:https://www.ascolfa.org/index.php/calendario-ascolfa/13-educativo/128-c
 urso-internacional-de-verano-modulo-2
X-ALT-DESC;FMTTYPE=TEXT/HTML:<p>Curso Internacional de Verano - Módulo 2</p
 >\n<p>Dirección estratégica y gestión de la innovación</p>
END:VEVENT
END:VCALENDAR
