BEGIN:VCALENDAR
VERSION:2.0
PRODID:-//https://www.ascolfa.org//NONSGML kigkonsult.se iCalcreator 2.29.2
 9//
CALSCALE:GREGORIAN
METHOD:PUBLISH
UID:66c27041-6d4e-4d81-829a-1614f20b67d8
X-WR-CALNAME:JCal Pro Calendar
X-WR-CALDESC:Tu calendario de eventos online.
X-WR-TIMEZONE:America/Bogota
BEGIN:VTIMEZONE
TZID:America/Bogota
BEGIN:STANDARD
TZNAME:-05
DTSTART:20240722T214607
TZOFFSETFROM:+0000
TZOFFSETTO:-0500
END:STANDARD
END:VTIMEZONE
BEGIN:VEVENT
UID:20230622T180000-05-08250Bcxur@https://ascolfa.org/
DTSTAMP:20260423T214607Z
CATEGORIES:Educativo
DESCRIPTION:<p>Curso Internacional de Verano - Módulo 3</p>\n<p>Toma de dec
 isiones y liderazgo</p>
DTSTART;TZID=America/Bogota:20230622T180000
DTEND;TZID=America/Bogota:20230626T210000
SUMMARY:Curso Internacional de Verano - Módulo 3
URL:https://www.ascolfa.org/index.php/calendario-ascolfa/13-educativo/129-c
 urso-internacional-de-verano-modulo-3
X-ALT-DESC;FMTTYPE=TEXT/HTML:<p>Curso Internacional de Verano - Módulo 3</p
 >\n<p>Toma de decisiones y liderazgo</p>
END:VEVENT
END:VCALENDAR
