BEGIN:VCALENDAR
VERSION:2.0
PRODID:-//https://www.ascolfa.org//NONSGML kigkonsult.se iCalcreator 2.29.2
 9//
CALSCALE:GREGORIAN
METHOD:PUBLISH
UID:7af7e28a-056a-4adc-91c3-d3a7201d8265
X-WR-CALNAME:JCal Pro Calendar
X-WR-CALDESC:Tu calendario de eventos online.
X-WR-TIMEZONE:America/Bogota
BEGIN:VTIMEZONE
TZID:America/Bogota
BEGIN:STANDARD
TZNAME:-05
DTSTART:20240723T004741
TZOFFSETFROM:+0000
TZOFFSETTO:-0500
END:STANDARD
END:VTIMEZONE
BEGIN:VEVENT
UID:20230630T180000-05-12651hHBUG@https://ascolfa.org/
DTSTAMP:20260424T004741Z
CATEGORIES:Educativo
DESCRIPTION:<p>Curso Internacional de Verano - Módulo 5</p>\n<p>Mercadeo</p
 >
DTSTART;TZID=America/Bogota:20230630T180000
DTEND;TZID=America/Bogota:20230705T210000
SUMMARY:Curso Internacional de Verano - Módulo 5
URL:https://www.ascolfa.org/index.php/calendario-ascolfa/13-educativo/131-c
 urso-internacional-de-verano-modulo-5
X-ALT-DESC;FMTTYPE=TEXT/HTML:<p>Curso Internacional de Verano - Módulo 5</p
 >\n<p>Mercadeo</p>
END:VEVENT
END:VCALENDAR
