BEGIN:VCALENDAR
VERSION:2.0
PRODID:-//https://www.ascolfa.org//NONSGML kigkonsult.se iCalcreator 2.29.2
 9//
CALSCALE:GREGORIAN
METHOD:PUBLISH
UID:3a4e74fe-6ac6-443a-a564-7418a5a381dc
X-WR-CALNAME:JCal Pro Calendar
X-WR-CALDESC:Tu calendario de eventos online.
X-WR-TIMEZONE:America/Bogota
BEGIN:VTIMEZONE
TZID:America/Bogota
BEGIN:STANDARD
TZNAME:-05
DTSTART:20240719T043852
TZOFFSETFROM:+0000
TZOFFSETTO:-0500
END:STANDARD
END:VTIMEZONE
BEGIN:VEVENT
UID:20230710T070000-05-3987X9GLU3@https://ascolfa.org/
DTSTAMP:20260420T043852Z
CATEGORIES:General
DESCRIPTION:<p>II Gira internacional ASCOLFA</p>
DTSTART;TZID=America/Bogota:20230805T070000
DTEND;TZID=America/Bogota:20230812T180000
SUMMARY:II Gira internacional ASCOLFA
URL:https://www.ascolfa.org/index.php/calendario-ascolfa/16-general/120-ii-
 gira-internacional-ascolfa
X-ALT-DESC;FMTTYPE=TEXT/HTML:<p>II Gira internacional ASCOLFA</p>
END:VEVENT
END:VCALENDAR
