BEGIN:VCALENDAR
VERSION:2.0
PRODID:-//https://www.ascolfa.org//NONSGML kigkonsult.se iCalcreator 2.29.2
 9//
CALSCALE:GREGORIAN
METHOD:PUBLISH
UID:5df11de9-4e18-4ca2-bca2-323606f00d29
X-WR-CALNAME:JCal Pro Calendar
X-WR-CALDESC:Tu calendario de eventos online.
X-WR-TIMEZONE:America/Bogota
BEGIN:VTIMEZONE
TZID:America/Bogota
BEGIN:STANDARD
TZNAME:-05
DTSTART:20240719T012641
TZOFFSETFROM:+0000
TZOFFSETTO:-0500
END:STANDARD
END:VTIMEZONE
BEGIN:VEVENT
UID:20231023T070000-05-1769I6whDf@https://ascolfa.org/
DTSTAMP:20260420T012641Z
CATEGORIES:Conferencias
DESCRIPTION:<p>CLADEA   Córdoba - Argentina</p>
DTSTART;TZID=America/Bogota:20231023T070000
DTEND;TZID=America/Bogota:20231025T190000
SUMMARY:CLADEA  Córdoba - Argentina
URL:https://www.ascolfa.org/index.php/calendario-ascolfa/15-conferencia/124
 -cladea-cordoba-argentina
X-ALT-DESC;FMTTYPE=TEXT/HTML:<p>CLADEA   Córdoba - Argentina</p>
END:VEVENT
END:VCALENDAR
