BEGIN:VCALENDAR
VERSION:2.0
PRODID:-//https://www.ascolfa.org//NONSGML kigkonsult.se iCalcreator 2.29.2
 9//
CALSCALE:GREGORIAN
METHOD:PUBLISH
UID:18f890ba-b6e6-4289-ac85-1b6ce54ddff2
X-WR-CALNAME:JCal Pro Calendar
X-WR-CALDESC:Tu calendario de eventos online.
X-WR-TIMEZONE:America/Bogota
BEGIN:VTIMEZONE
TZID:America/Bogota
BEGIN:STANDARD
TZNAME:-05
DTSTART:20240718T173844
TZOFFSETFROM:+0000
TZOFFSETTO:-0500
END:STANDARD
END:VTIMEZONE
BEGIN:VEVENT
UID:20240117T100000-05-0641woLppR@https://ascolfa.org/
DTSTAMP:20260419T173844Z
CATEGORIES:General
DESCRIPTION:<p>Día del Contador</p>
DTSTART;TZID=America/Bogota:20240301T000000
DTEND;TZID=America/Bogota:20240301T235959
RRULE:FREQ=YEARLY;COUNT=2;INTERVAL=1
SUMMARY:Día del Contador
URL:https://www.ascolfa.org/index.php/calendario-ascolfa/16-general/133-dia
 -del-contador
X-ALT-DESC;FMTTYPE=TEXT/HTML:<p>Día del Contador</p>
END:VEVENT
END:VCALENDAR
