BEGIN:VCALENDAR
VERSION:2.0
PRODID:-//https://www.ascolfa.org//NONSGML kigkonsult.se iCalcreator 2.29.2
 9//
CALSCALE:GREGORIAN
METHOD:PUBLISH
UID:37201238-699f-4e24-83f0-35e461350e7e
X-WR-CALNAME:JCal Pro Calendar
X-WR-CALDESC:Tu calendario de eventos online.
X-WR-TIMEZONE:America/Bogota
BEGIN:VTIMEZONE
TZID:America/Bogota
BEGIN:STANDARD
TZNAME:-05
DTSTART:20240719T005854
TZOFFSETFROM:+0000
TZOFFSETTO:-0500
END:STANDARD
END:VTIMEZONE
BEGIN:VEVENT
UID:20240815T080000-05-4472uuML9H@https://ascolfa.org/
DTSTAMP:20260420T005854Z
CATEGORIES:General
DESCRIPTION:<p>Aniversario 38 ASCOLFA</p>
DTSTART;TZID=America/Bogota:20240820T080000
DTEND;TZID=America/Bogota:20240823T190000
SUMMARY:Aniversario 38  ASCOLFA
URL:https://www.ascolfa.org/index.php/calendario-ascolfa/16-general/143-ani
 versario-38-ascolfa-2
X-ALT-DESC;FMTTYPE=TEXT/HTML:<p>Aniversario 38 ASCOLFA</p>
END:VEVENT
END:VCALENDAR
