BEGIN:VCALENDAR
VERSION:2.0
PRODID:-//https://www.ascolfa.org//NONSGML kigkonsult.se iCalcreator 2.29.2
 9//
CALSCALE:GREGORIAN
METHOD:PUBLISH
UID:44f4b1bb-bd97-43e3-a450-482bc9433fe7
X-WR-CALNAME:JCal Pro Calendar
X-WR-CALDESC:Tu calendario de eventos online.
X-WR-TIMEZONE:America/Bogota
BEGIN:VTIMEZONE
TZID:America/Bogota
BEGIN:STANDARD
TZNAME:-05
DTSTART:20240722T125848
TZOFFSETFROM:+0000
TZOFFSETTO:-0500
END:STANDARD
END:VTIMEZONE
BEGIN:VEVENT
UID:20250826T070000-05-2703MI8TbM@https://ascolfa.org/
DTSTAMP:20260423T125848Z
CATEGORIES:General
DESCRIPTION:<p>Consejo Directivo Nacional - Presencial</p>
DTSTART;TZID=America/Bogota:20250826T070000
DTEND;TZID=America/Bogota:20250826T140000
SUMMARY:Consejo Directivo Nacional - Presencial
URL:https://www.ascolfa.org/index.php/calendario-ascolfa/16-general/162-con
 sejo-directivo-nacional-presencial
X-ALT-DESC;FMTTYPE=TEXT/HTML:<p>Consejo Directivo Nacional - Presencial</p>
END:VEVENT
END:VCALENDAR
