BEGIN:VCALENDAR
VERSION:2.0
PRODID:-//https://www.ascolfa.org//NONSGML kigkonsult.se iCalcreator 2.29.2
 9//
CALSCALE:GREGORIAN
METHOD:PUBLISH
UID:db0cb8af-fbc5-4d33-bf83-c136d0bd9640
X-WR-CALNAME:JCal Pro Calendar
X-WR-CALDESC:Tu calendario de eventos online.
X-WR-TIMEZONE:America/Bogota
BEGIN:VTIMEZONE
TZID:America/Bogota
BEGIN:STANDARD
TZNAME:-05
DTSTART:20240722T223044
TZOFFSETFROM:+0000
TZOFFSETTO:-0500
END:STANDARD
END:VTIMEZONE
BEGIN:VEVENT
UID:20251012T000000-05-5514Exa5aX@https://ascolfa.org/
DTSTAMP:20260423T223044Z
CATEGORIES:Educativo
DESCRIPTION:<p>Nueva fecha - Gira académica Internacional Brasil - São Paul
 o\, Santos\, Campinas y Río de Janeiro - Organizado por: ASCOLFA - EQUAA</
 p>
DTSTART;TZID=America/Bogota:20251012T000000
DTEND;TZID=America/Bogota:20251019T235900
SUMMARY:Gira académica Internacional Brasil - São Paulo\, Santos\, Campinas
  y Río de Janeiro
URL:https://www.ascolfa.org/index.php/calendario-ascolfa/13-educativo/166-g
 ira-academica-internacional-brasil-sao-paulo-santos-campinas-y-rio-de-jane
 iro
X-ALT-DESC;FMTTYPE=TEXT/HTML:<p>Nueva fecha - Gira académica Internacional 
 Brasil - São Paulo\, Santos\, Campinas y Río de Janeiro - Organizado por: 
 ASCOLFA - EQUAA</p>
END:VEVENT
END:VCALENDAR
