BEGIN:VCALENDAR
VERSION:2.0
PRODID:-//https://www.ascolfa.org//NONSGML kigkonsult.se iCalcreator 2.29.2
 9//
CALSCALE:GREGORIAN
METHOD:PUBLISH
UID:f538ee5a-0c19-4e81-bc00-358c0f917748
X-WR-CALNAME:JCal Pro Calendar
X-WR-CALDESC:Tu calendario de eventos online.
X-WR-TIMEZONE:America/Bogota
BEGIN:VTIMEZONE
TZID:America/Bogota
BEGIN:STANDARD
TZNAME:-05
DTSTART:20240723T000346
TZOFFSETFROM:+0000
TZOFFSETTO:-0500
END:STANDARD
END:VTIMEZONE
BEGIN:VEVENT
UID:20251022T070000-05-61710B1a35@https://ascolfa.org/
DTSTAMP:20260424T000346Z
CATEGORIES:Conferencias
DESCRIPTION:<p>Seminario – Taller: Una mirada desde el aseguramiento de la 
 calidad y el aprendizaje. Organizado por: ASCOLFA - Capítulo Suroccidente<
 /p>
DTSTART;TZID=America/Bogota:20251022T070000
DTEND;TZID=America/Bogota:20251023T190000
SUMMARY:Seminario – Taller: Una mirada desde el aseguramiento de la calidad
  y el aprendizaje
URL:https://www.ascolfa.org/index.php/calendario-ascolfa/15-conferencia/167
 -seminario-taller-una-mirada-desde-el-aseguramiento-de-la-calidad-y-el-apr
 endizaje
X-ALT-DESC;FMTTYPE=TEXT/HTML:<p>Seminario – Taller: Una mirada desde el ase
 guramiento de la calidad y el aprendizaje. Organizado por: ASCOLFA - Capít
 ulo Suroccidente</p>
END:VEVENT
END:VCALENDAR
