BEGIN:VCALENDAR
VERSION:2.0
PRODID:-//https://www.ascolfa.org//NONSGML kigkonsult.se iCalcreator 2.29.2
 9//
CALSCALE:GREGORIAN
METHOD:PUBLISH
UID:c76ca549-7147-45ed-90db-4d641134849a
X-WR-CALNAME:JCal Pro Calendar
X-WR-CALDESC:Tu calendario de eventos online.
X-WR-TIMEZONE:America/Bogota
BEGIN:VTIMEZONE
TZID:America/Bogota
BEGIN:STANDARD
TZNAME:-05
DTSTART:20240718T140446
TZOFFSETFROM:+0000
TZOFFSETTO:-0500
END:STANDARD
END:VTIMEZONE
BEGIN:VEVENT
UID:20211101T010000-05-9307RjtV4J@https://www.ascolfa.org/
DTSTAMP:20260419T140446Z
CATEGORIES:Días Festivos
DESCRIPTION:<p><span style='font-size: 12pt\;'><strong>Día de los Difuntos<
 /strong></span></p>
DTSTART;TZID=America/Bogota:20211101T000000
DTEND;TZID=America/Bogota:20211101T235959
SUMMARY:Día Festivo
URL:https://www.ascolfa.org/index.php/calendario-ascolfa/18-dias-festivos/9
 3-dia-festivo
X-ALT-DESC;FMTTYPE=TEXT/HTML:<p><span style='font-size: 12pt\;'><strong>Día
  de los Difuntos</strong></span></p>
END:VEVENT
BEGIN:VEVENT
UID:20211104T100000-05-5070dN7cNL@https://ascolfa.org/
DTSTAMP:20260419T140446Z
CATEGORIES:Educativo
DESCRIPTION:<p>Día del Administrador.</p>
DTSTART;TZID=America/Bogota:20211104T100000
DTEND;TZID=America/Bogota:20211104T110000
SUMMARY:Día del Administrador
URL:https://www.ascolfa.org/index.php/calendario-ascolfa/13-educativo/14-di
 a-del-administrador
X-ALT-DESC;FMTTYPE=TEXT/HTML:<p>Día del Administrador.</p>
END:VEVENT
BEGIN:VEVENT
UID:20211115T010000-05-8523LFTt3O@https://www.ascolfa.org/
DTSTAMP:20260419T140446Z
CATEGORIES:Días Festivos
DESCRIPTION:<p><span style='font-size: 12pt\;'><strong>Independencia de Car
 tagena</strong></span></p>
DTSTART;TZID=America/Bogota:20211115T000000
DTEND;TZID=America/Bogota:20211115T235959
SUMMARY:Día Festivo
URL:https://www.ascolfa.org/index.php/calendario-ascolfa/18-dias-festivos/9
 4-dia-festivo
X-ALT-DESC;FMTTYPE=TEXT/HTML:<p><span style='font-size: 12pt\;'><strong>Ind
 ependencia de Cartagena</strong></span></p>
END:VEVENT
BEGIN:VEVENT
UID:20211117T180000-05-9308u4VIrN@https://ascolfa.org/
DTSTAMP:20260419T140446Z
CATEGORIES:Asociados
DESCRIPTION:<p>Celebración Día del Administrador ASCOLFA y Entrega Reconoci
 mientos a la Excelencia 2021</p>
DTSTART;TZID=America/Bogota:20211117T000000
DTEND;TZID=America/Bogota:20211117T235959
SUMMARY:Celebración Día del Administrador ASCOLFA
URL:https://www.ascolfa.org/index.php/calendario-ascolfa/12-asociados/63-ce
 lebracion-dia-del-administrador-ascolfa
X-ALT-DESC;FMTTYPE=TEXT/HTML:<p>Celebración Día del Administrador ASCOLFA y
  Entrega Reconocimientos a la Excelencia 2021</p>
END:VEVENT
END:VCALENDAR
