BEGIN:VCALENDAR
VERSION:2.0
PRODID:-//https://www.ascolfa.org//NONSGML kigkonsult.se iCalcreator 2.29.2
 9//
CALSCALE:GREGORIAN
METHOD:PUBLISH
UID:fbda1f1a-2dae-46b3-b895-e3eb19c69690
X-WR-CALNAME:JCal Pro Calendar
X-WR-CALDESC:Tu calendario de eventos online.
X-WR-TIMEZONE:America/Bogota
BEGIN:VTIMEZONE
TZID:America/Bogota
BEGIN:STANDARD
TZNAME:-05
DTSTART:20240719T005210
TZOFFSETFROM:+0000
TZOFFSETTO:-0500
END:STANDARD
END:VTIMEZONE
BEGIN:VEVENT
UID:20220913T110000-05-5112vFvTeZ@https://www.ascolfa.org/
DTSTAMP:20260420T005210Z
CATEGORIES:Educativo
DESCRIPTION:<p>Conferencia Internacional Ascolfa</p>
DTSTART;TZID=America/Bogota:20220913T110000
DTEND;TZID=America/Bogota:20220915T122400
SUMMARY:Conferencia Internacional Ascolfa
URL:https://www.ascolfa.org/index.php/calendario-ascolfa/13-educativo/112-c
 onferencia-internacional-ascolfa
X-ALT-DESC;FMTTYPE=TEXT/HTML:<p>Conferencia Internacional Ascolfa</p>
END:VEVENT
END:VCALENDAR
