BEGIN:VCALENDAR
VERSION:2.0
PRODID:-//https://www.ascolfa.org//NONSGML kigkonsult.se iCalcreator 2.29.2
 9//
CALSCALE:GREGORIAN
METHOD:PUBLISH
UID:e3170008-ade8-4c5a-9222-9ff0cccf1304
X-WR-CALNAME:JCal Pro Calendar
X-WR-CALDESC:Tu calendario de eventos online.
X-WR-TIMEZONE:America/Bogota
BEGIN:VTIMEZONE
TZID:America/Bogota
BEGIN:STANDARD
TZNAME:-05
DTSTART:20240719T022638
TZOFFSETFROM:+0000
TZOFFSETTO:-0500
END:STANDARD
END:VTIMEZONE
BEGIN:VEVENT
UID:20221021T110000-05-4840i3rKdJ@https://www.ascolfa.org/
DTSTAMP:20260420T022638Z
CATEGORIES:Educativo
DESCRIPTION:<p>57 Asamblea Anual CLADEA 2022</p>
DTSTART;TZID=America/Bogota:20221021T110000
DTEND;TZID=America/Bogota:20221026T122800
SUMMARY:57 Asamblea Anual CLADEA 2022
URL:https://www.ascolfa.org/index.php/calendario-ascolfa/13-educativo/113-5
 7-asamblea-anual-cladea-2022
X-ALT-DESC;FMTTYPE=TEXT/HTML:<p>57 Asamblea Anual CLADEA 2022</p>
END:VEVENT
END:VCALENDAR
