BEGIN:VCALENDAR
VERSION:2.0
PRODID:-//https://www.ascolfa.org//NONSGML kigkonsult.se iCalcreator 2.29.2
 9//
CALSCALE:GREGORIAN
METHOD:PUBLISH
UID:32910af2-e5c0-4239-b942-8624ddbbc75a
X-WR-CALNAME:JCal Pro Calendar
X-WR-CALDESC:Tu calendario de eventos online.
X-WR-TIMEZONE:America/Bogota
BEGIN:VTIMEZONE
TZID:America/Bogota
BEGIN:STANDARD
TZNAME:-05
DTSTART:20240722T124534
TZOFFSETFROM:+0000
TZOFFSETTO:-0500
END:STANDARD
END:VTIMEZONE
BEGIN:VEVENT
UID:20250918T070000-05-5739TV4mnV@https://ascolfa.org/
DTSTAMP:20260423T124534Z
CATEGORIES:Educativo
DESCRIPTION:<p>Congreso de Decanos ACBSP - ASCOLFA - Bogotá. Organizado por
 : ASCOLFA - ACBSP</p>
DTSTART;TZID=America/Bogota:20250918T070000
DTEND;TZID=America/Bogota:20250920T190000
SUMMARY:Congreso de Decanos ACBSP - ASCOLFA - Bogotá
URL:https://www.ascolfa.org/index.php/calendario-ascolfa/13-educativo/164-c
 ongreso-de-decanos-acbsp-ascolfa-bogota
X-ALT-DESC;FMTTYPE=TEXT/HTML:<p>Congreso de Decanos ACBSP - ASCOLFA - Bogot
 á. Organizado por: ASCOLFA - ACBSP</p>
END:VEVENT
BEGIN:VEVENT
UID:20250921T000000-05-2999RNcVG6@https://ascolfa.org/
DTSTAMP:20260423T124534Z
CATEGORIES:Educativo
DESCRIPTION:<p>Nueva fecha - Misión académica Internacional México - Ciudad
  de México. Organizado por: ASCOLFA - Viajar de Colombia - I.A.C</p>
DTSTART;TZID=America/Bogota:20250921T000000
DTEND;TZID=America/Bogota:20250927T115900
SUMMARY:Misión académica Internacional México - Ciudad de México
URL:https://www.ascolfa.org/index.php/calendario-ascolfa/13-educativo/165-m
 ision-academica-internacional-mexico-ciudad-de-mexico
X-ALT-DESC;FMTTYPE=TEXT/HTML:<p>Nueva fecha - Misión académica Internaciona
 l México - Ciudad de México. Organizado por: ASCOLFA - Viajar de Colombia 
 - I.A.C</p>
END:VEVENT
BEGIN:VEVENT
UID:20250929T150000-05-2877GoW4Vx@https://ascolfa.org/
DTSTAMP:20260423T124534Z
CATEGORIES:Conferencias
DESCRIPTION:<p>60° Congreso Internacional CLADEA. Tijuana - México y San Di
 ego - Estados Unidos</p>
DTSTART;TZID=America/Bogota:20250929T150000
DTEND;TZID=America/Bogota:20251003T170000
SUMMARY:60° Congreso Internacional CLADEA
URL:https://www.ascolfa.org/index.php/calendario-ascolfa/15-conferencia/159
 -60-congreso-internacional-cladea
X-ALT-DESC;FMTTYPE=TEXT/HTML:<p>60° Congreso Internacional CLADEA. Tijuana 
 - México y San Diego - Estados Unidos</p>
END:VEVENT
END:VCALENDAR
