BEGIN:VCALENDAR
VERSION:2.0
PRODID:-//https://www.ascolfa.org//NONSGML kigkonsult.se iCalcreator 2.29.2
 9//
CALSCALE:GREGORIAN
METHOD:PUBLISH
UID:db396ec5-9dd6-4bbc-8cbc-0537f2107db3
X-WR-CALNAME:JCal Pro Calendar
X-WR-CALDESC:Tu calendario de eventos online.
X-WR-TIMEZONE:America/Bogota
BEGIN:VTIMEZONE
TZID:America/Bogota
BEGIN:STANDARD
TZNAME:-05
DTSTART:20240722T095605
TZOFFSETFROM:+0000
TZOFFSETTO:-0500
END:STANDARD
END:VTIMEZONE
BEGIN:VEVENT
UID:20210301T100000-05-9277KAvwn2@https://ascolfa.org/
DTSTAMP:20260423T095605Z
CATEGORIES:General
DESCRIPTION:<p>Día del Contador</p>
DTSTART;TZID=America/Bogota:20210301T000000
DTEND;TZID=America/Bogota:20210301T235959
SUMMARY:Día del Contador
URL:https://www.ascolfa.org/index.php/calendario-ascolfa/16-general/17-dia-
 del-contador
X-ALT-DESC;FMTTYPE=TEXT/HTML:<p>Día del Contador</p>
END:VEVENT
END:VCALENDAR
