BEGIN:VCALENDAR
VERSION:2.0
PRODID:-//https://www.ascolfa.org//NONSGML kigkonsult.se iCalcreator 2.29.2
 9//
CALSCALE:GREGORIAN
METHOD:PUBLISH
UID:a50c4431-e5c0-4968-8bb4-698304f8d779
X-WR-CALNAME:JCal Pro Calendar
X-WR-CALDESC:Tu calendario de eventos online.
X-WR-TIMEZONE:America/Bogota
BEGIN:VTIMEZONE
TZID:America/Bogota
BEGIN:STANDARD
TZNAME:-05
DTSTART:20240722T095610
TZOFFSETFROM:+0000
TZOFFSETTO:-0500
END:STANDARD
END:VTIMEZONE
BEGIN:VEVENT
UID:20210407T110000-05-322860ajLR@https://ascolfa.org/
DTSTAMP:20260423T095610Z
CATEGORIES:General
DESCRIPTION:<p>Día Mundial de la Salud</p>
DTSTART;TZID=America/Bogota:20210407T000000
DTEND;TZID=America/Bogota:20210407T235959
SUMMARY:Día Mundial de la Salud
URL:https://www.ascolfa.org/index.php/calendario-ascolfa/16-general/29-dia-
 mundial-de-la-salud
X-ALT-DESC;FMTTYPE=TEXT/HTML:<p>Día Mundial de la Salud</p>
END:VEVENT
BEGIN:VEVENT
UID:20210407T180000-05-3190r2rTUm@https://ascolfa.org/
DTSTAMP:20260423T095610Z
CATEGORIES:Asociados
DESCRIPTION:<p>ASCOLFA Emprende</p>
DTSTART;TZID=America/Bogota:20210407T000000
DTEND;TZID=America/Bogota:20210407T235959
SUMMARY:ASCOLFA Emprende
URL:https://www.ascolfa.org/index.php/calendario-ascolfa/12-asociados/52-as
 colfa-emprende
X-ALT-DESC;FMTTYPE=TEXT/HTML:<p>ASCOLFA Emprende</p>
END:VEVENT
BEGIN:VEVENT
UID:20210408T180000-05-04234FsGWn@https://ascolfa.org/
DTSTAMP:20260423T095610Z
CATEGORIES:Educativo
DESCRIPTION:<p><b> I</b>nternational Conference and Annual Meeting ICAM</p>
DTSTART;TZID=America/Bogota:20210408T000000
DTEND;TZID=America/Bogota:20210408T235959
RRULE:FREQ=DAILY;COUNT=2;INTERVAL=12
SUMMARY:International Conference and Annual Meeting ICAM
URL:https://www.ascolfa.org/index.php/calendario-ascolfa/13-educativo/49-in
 ternational-conference-and-annual-meeting-icam
X-ALT-DESC;FMTTYPE=TEXT/HTML:<p><b> I</b>nternational Conference and Annual
  Meeting ICAM</p>
END:VEVENT
END:VCALENDAR
