BEGIN:VCALENDAR
VERSION:2.0
PRODID:-//https://www.ascolfa.org//NONSGML kigkonsult.se iCalcreator 2.29.2
 9//
CALSCALE:GREGORIAN
METHOD:PUBLISH
UID:348df99b-3074-4155-8cee-7cc3987f3602
X-WR-CALNAME:JCal Pro Calendar
X-WR-CALDESC:Tu calendario de eventos online.
X-WR-TIMEZONE:America/Bogota
BEGIN:VTIMEZONE
TZID:America/Bogota
BEGIN:STANDARD
TZNAME:-05
DTSTART:20240722T095610
TZOFFSETFROM:+0000
TZOFFSETTO:-0500
END:STANDARD
END:VTIMEZONE
BEGIN:VEVENT
UID:20201225T110000-05-7267vBXbax@https://ascolfa.org/
DTSTAMP:20260423T095610Z
CATEGORIES:General
DESCRIPTION:<p>Día de Navidad</p>
DTSTART;TZID=America/Bogota:20201220T000000
DTEND;TZID=America/Bogota:20201220T235959
RRULE:FREQ=YEARLY;COUNT=2;INTERVAL=1
SUMMARY:Día de Navidad
URL:https://www.ascolfa.org/index.php/calendario-ascolfa/16-general/33-dia-
 de-navidad
X-ALT-DESC;FMTTYPE=TEXT/HTML:<p>Día de Navidad</p>
END:VEVENT
BEGIN:VEVENT
UID:20201224T110000-05-0401alJGha@https://ascolfa.org/
DTSTAMP:20260423T095610Z
CATEGORIES:General
DESCRIPTION:<p>Noche Buena</p>
DTSTART;TZID=America/Bogota:20201224T000000
DTEND;TZID=America/Bogota:20201224T235959
RRULE:FREQ=YEARLY;COUNT=2;INTERVAL=1
SUMMARY:Noche Buena
URL:https://www.ascolfa.org/index.php/calendario-ascolfa/16-general/30-noch
 e-buena
X-ALT-DESC;FMTTYPE=TEXT/HTML:<p>Noche Buena</p>
END:VEVENT
BEGIN:VEVENT
UID:20211225T010000-05-9010enugab@https://www.ascolfa.org/
DTSTAMP:20260423T095610Z
CATEGORIES:Días Festivos
DESCRIPTION:<p><span style='font-size: 12pt\;'><strong>Navidad</strong></sp
 an></p>
DTSTART;TZID=America/Bogota:20211225T000000
DTEND;TZID=America/Bogota:20211225T235959
SUMMARY:Día Festivo
URL:https://www.ascolfa.org/index.php/calendario-ascolfa/18-dias-festivos/9
 6-dia-festivo
X-ALT-DESC;FMTTYPE=TEXT/HTML:<p><span style='font-size: 12pt\;'><strong>Nav
 idad</strong></span></p>
END:VEVENT
END:VCALENDAR
