BEGIN:VCALENDAR
VERSION:2.0
PRODID:-//https://www.ascolfa.org//NONSGML kigkonsult.se iCalcreator 2.29.2
 9//
CALSCALE:GREGORIAN
METHOD:PUBLISH
UID:415fe989-4b7e-4305-9f25-c6053e14d208
X-WR-CALNAME:JCal Pro Calendar
X-WR-CALDESC:Tu calendario de eventos online.
X-WR-TIMEZONE:America/Bogota
BEGIN:VTIMEZONE
TZID:America/Bogota
BEGIN:STANDARD
TZNAME:-05
DTSTART:20240721T224108
TZOFFSETFROM:+0000
TZOFFSETTO:-0500
END:STANDARD
END:VTIMEZONE
BEGIN:VEVENT
UID:20220316T010000-05-1436vHV3VC@https://www.ascolfa.org/
DTSTAMP:20260422T224108Z
CATEGORIES:Asociados
DESCRIPTION:<p>Asamblea General Ordinaria Ascolfa</p>
DTSTART;TZID=America/Bogota:20220316T000000
DTEND;TZID=America/Bogota:20220316T235959
SUMMARY:Asamblea General Ordinaria Ascolfa
URL:https://www.ascolfa.org/index.php/calendario-ascolfa/12-asociados/105-a
 samblea-general-ordinaria-ascolfa
X-ALT-DESC;FMTTYPE=TEXT/HTML:<p>Asamblea General Ordinaria Ascolfa</p>
END:VEVENT
END:VCALENDAR
