BEGIN:VCALENDAR
VERSION:2.0
PRODID:-//https://www.ascolfa.org//NONSGML kigkonsult.se iCalcreator 2.29.2
 9//
CALSCALE:GREGORIAN
METHOD:PUBLISH
UID:dc5b256b-850d-477c-81bc-71e521484b8f
X-WR-CALNAME:JCal Pro Calendar
X-WR-CALDESC:Tu calendario de eventos online.
X-WR-TIMEZONE:America/Bogota
BEGIN:VTIMEZONE
TZID:America/Bogota
BEGIN:STANDARD
TZNAME:-05
DTSTART:20240719T163324
TZOFFSETFROM:+0000
TZOFFSETTO:-0500
END:STANDARD
END:VTIMEZONE
BEGIN:VEVENT
UID:20221104T110000-05-28950OV9G2@https://www.ascolfa.org/
DTSTAMP:20260420T163324Z
CATEGORIES:General
DESCRIPTION:<p>Día del Administrador</p>
DTSTART;TZID=America/Bogota:20221104T000000
DTEND;TZID=America/Bogota:20221104T235959
SUMMARY:Día del Administrador
URL:https://www.ascolfa.org/index.php/calendario-ascolfa/16-general/114-dia
 -del-administrador
X-ALT-DESC;FMTTYPE=TEXT/HTML:<p>Día del Administrador</p>
END:VEVENT
END:VCALENDAR
