BEGIN:VCALENDAR
VERSION:2.0
PRODID:-//https://www.ascolfa.org//NONSGML kigkonsult.se iCalcreator 2.29.2
 9//
CALSCALE:GREGORIAN
METHOD:PUBLISH
UID:5a8ef479-12d3-46a6-9db6-fb2974f0bca0
X-WR-CALNAME:JCal Pro Calendar
X-WR-CALDESC:Tu calendario de eventos online.
X-WR-TIMEZONE:America/Bogota
BEGIN:VTIMEZONE
TZID:America/Bogota
BEGIN:STANDARD
TZNAME:-05
DTSTART:20240722T095448
TZOFFSETFROM:+0000
TZOFFSETTO:-0500
END:STANDARD
END:VTIMEZONE
BEGIN:VEVENT
UID:20221116T110000-05-2406elaTUV@https://www.ascolfa.org/
DTSTAMP:20260423T095448Z
CATEGORIES:Asociados
DESCRIPTION:<p>Celebración Día del Administrador Ascolfa</p>
DTSTART;TZID=America/Bogota:20221116T000000
DTEND;TZID=America/Bogota:20221116T235959
SUMMARY:Celebración Día del Administrador Ascolfa
URL:https://www.ascolfa.org/index.php/calendario-ascolfa/12-asociados/115-c
 elebracion-dia-del-administrador-ascolfa
X-ALT-DESC;FMTTYPE=TEXT/HTML:<p>Celebración Día del Administrador Ascolfa</
 p>
END:VEVENT
END:VCALENDAR
