BEGIN:VCALENDAR
VERSION:2.0
PRODID:-//https://www.ascolfa.org//NONSGML kigkonsult.se iCalcreator 2.29.2
 9//
CALSCALE:GREGORIAN
METHOD:PUBLISH
UID:765e5f73-2005-43e7-b84c-6fd26ff002cf
X-WR-CALNAME:JCal Pro Calendar
X-WR-CALDESC:Tu calendario de eventos online.
X-WR-TIMEZONE:America/Bogota
BEGIN:VTIMEZONE
TZID:America/Bogota
BEGIN:STANDARD
TZNAME:-05
DTSTART:20240722T125919
TZOFFSETFROM:+0000
TZOFFSETTO:-0500
END:STANDARD
END:VTIMEZONE
BEGIN:VEVENT
UID:20230523T180000-05-8023ahNwFN@https://ascolfa.org/
DTSTAMP:20260423T125919Z
CATEGORIES:Conferencias
DESCRIPTION:<p>Foros ASCOLFA - Capítulo Bogotá</p>
DTSTART;TZID=America/Bogota:20230523T180000
DTEND;TZID=America/Bogota:20230526T210000
SUMMARY:Foros ASCOLFA - Capítulo Bogotá
URL:https://www.ascolfa.org/index.php/calendario-ascolfa/15-conferencia/119
 -foros-ascolfa-bogota
X-ALT-DESC;FMTTYPE=TEXT/HTML:<p>Foros ASCOLFA - Capítulo Bogotá</p>
END:VEVENT
END:VCALENDAR
