BEGIN:VCALENDAR
VERSION:2.0
PRODID:-//https://www.ascolfa.org//NONSGML kigkonsult.se iCalcreator 2.29.2
 9//
CALSCALE:GREGORIAN
METHOD:PUBLISH
UID:e6b532ce-af86-4d1d-8e0c-9195eecd006c
X-WR-CALNAME:JCal Pro Calendar
X-WR-CALDESC:Tu calendario de eventos online.
X-WR-TIMEZONE:America/Bogota
BEGIN:VTIMEZONE
TZID:America/Bogota
BEGIN:STANDARD
TZNAME:-05
DTSTART:20240718T201353
TZOFFSETFROM:+0000
TZOFFSETTO:-0500
END:STANDARD
END:VTIMEZONE
BEGIN:VEVENT
UID:20240515T000000-05-7443iajUlC@https://ascolfa.org/
DTSTAMP:20260419T201353Z
CATEGORIES:General
DESCRIPTION:<p>Día del Profesor</p>
DTSTART;TZID=America/Bogota:20240515T000000
DTEND;TZID=America/Bogota:20240515T235959
RRULE:FREQ=YEARLY;COUNT=2;INTERVAL=1
SUMMARY:Día del Profesor
URL:https://www.ascolfa.org/index.php/calendario-ascolfa/16-general/139-dia
 -del-profesor
X-ALT-DESC;FMTTYPE=TEXT/HTML:<p>Día del Profesor</p>
END:VEVENT
END:VCALENDAR
