BEGIN:VCALENDAR
VERSION:2.0
PRODID:-//https://www.ascolfa.org//NONSGML kigkonsult.se iCalcreator 2.29.2
 9//
CALSCALE:GREGORIAN
METHOD:PUBLISH
UID:0c04a979-1b6d-4569-9215-9db6cf293811
X-WR-CALNAME:JCal Pro Calendar
X-WR-CALDESC:Tu calendario de eventos online.
X-WR-TIMEZONE:America/Bogota
BEGIN:VTIMEZONE
TZID:America/Bogota
BEGIN:STANDARD
TZNAME:-05
DTSTART:20240719T005410
TZOFFSETFROM:+0000
TZOFFSETTO:-0500
END:STANDARD
END:VTIMEZONE
BEGIN:VEVENT
UID:20240827T000000-05-329881oRVV@https://ascolfa.org/
DTSTAMP:20260420T005410Z
CATEGORIES:General
DESCRIPTION:<p>Aniversario 38 ASCOLFA</p>
DTSTART;TZID=America/Bogota:20240815T080000
DTEND;TZID=America/Bogota:20240816T190000
SUMMARY:Aniversario 38 ASCOLFA
URL:https://www.ascolfa.org/index.php/calendario-ascolfa/16-general/140-ani
 versario-38-ascolfa
X-ALT-DESC;FMTTYPE=TEXT/HTML:<p>Aniversario 38 ASCOLFA</p>
END:VEVENT
END:VCALENDAR
