BEGIN:VCALENDAR
VERSION:2.0
PRODID:-//https://www.ascolfa.org//NONSGML kigkonsult.se iCalcreator 2.29.2
 9//
CALSCALE:GREGORIAN
METHOD:PUBLISH
UID:3a4bbbd6-21c8-494f-8f91-d2f632f2d348
X-WR-CALNAME:JCal Pro Calendar
X-WR-CALDESC:Tu calendario de eventos online.
X-WR-TIMEZONE:America/Bogota
BEGIN:VTIMEZONE
TZID:America/Bogota
BEGIN:STANDARD
TZNAME:-05
DTSTART:20240722T100616
TZOFFSETFROM:+0000
TZOFFSETTO:-0500
END:STANDARD
END:VTIMEZONE
BEGIN:VEVENT
UID:20210601T110000-05-2997Og6tDD@https://ascolfa.org/
DTSTAMP:20260423T100616Z
CATEGORIES:General
DESCRIPTION:<p>Día Internacional del Niño</p>
DTSTART;TZID=America/Bogota:20210601T000000
DTEND;TZID=America/Bogota:20210601T235959
SUMMARY:Día Internacional del Niño
URL:https://www.ascolfa.org/index.php/calendario-ascolfa/16-general/23-dia-
 internacional-del-nino
X-ALT-DESC;FMTTYPE=TEXT/HTML:<p>Día Internacional del Niño</p>
END:VEVENT
BEGIN:VEVENT
UID:20210603T010000-05-6581nBTvlR@https://www.ascolfa.org/
DTSTAMP:20260423T100616Z
CATEGORIES:Días Festivos
DESCRIPTION:<p>Día Festivo</p>
DTSTART;TZID=America/Bogota:20210603T000000
DTEND;TZID=America/Bogota:20210603T235959
SUMMARY:Día Festivo
URL:https://www.ascolfa.org/index.php/calendario-ascolfa/18-dias-festivos/8
 6-dia-festivo
X-ALT-DESC;FMTTYPE=TEXT/HTML:<p>Día Festivo</p>
END:VEVENT
BEGIN:VEVENT
UID:20210605T110000-05-05662T1xm5@https://ascolfa.org/
DTSTAMP:20260423T100616Z
CATEGORIES:General
DESCRIPTION:<p>Día Mundial del Medio Ambiente</p>
DTSTART;TZID=America/Bogota:20210605T000000
DTEND;TZID=America/Bogota:20210605T235959
SUMMARY:Día Mundial del Medio Ambiente
URL:https://www.ascolfa.org/index.php/calendario-ascolfa/16-general/28-dia-
 mundial-del-medio-ambiente
X-ALT-DESC;FMTTYPE=TEXT/HTML:<p>Día Mundial del Medio Ambiente</p>
END:VEVENT
BEGIN:VEVENT
UID:20210614T010000-05-6668ARmvuS@https://www.ascolfa.org/
DTSTAMP:20260423T100616Z
CATEGORIES:Días Festivos
DESCRIPTION:<p><span style='font-size: 12pt\;'><strong>Sagrado Corazón</str
 ong></span></p>
DTSTART;TZID=America/Bogota:20210614T000000
DTEND;TZID=America/Bogota:20210614T235959
SUMMARY:Día Festivo
URL:https://www.ascolfa.org/index.php/calendario-ascolfa/18-dias-festivos/8
 7-dia-festivo
X-ALT-DESC;FMTTYPE=TEXT/HTML:<p><span style='font-size: 12pt\;'><strong>Sag
 rado Corazón</strong></span></p>
END:VEVENT
END:VCALENDAR
