BEGIN:VCALENDAR
VERSION:2.0
PRODID:-//https://www.ascolfa.org//NONSGML kigkonsult.se iCalcreator 2.29.2
 9//
CALSCALE:GREGORIAN
METHOD:PUBLISH
UID:030e7abf-db3e-4333-990d-c17dd3baba8f
X-WR-CALNAME:JCal Pro Calendar
X-WR-CALDESC:Tu calendario de eventos online.
X-WR-TIMEZONE:America/Bogota
BEGIN:VTIMEZONE
TZID:America/Bogota
BEGIN:STANDARD
TZNAME:-05
DTSTART:20240722T095441
TZOFFSETFROM:+0000
TZOFFSETTO:-0500
END:STANDARD
END:VTIMEZONE
BEGIN:VEVENT
UID:20210917T110000-05-7068aEtkJK@https://ascolfa.org/
DTSTAMP:20260423T095441Z
CATEGORIES:General
DESCRIPTION:<p>Día de Amor y Amistad</p>
DTSTART;TZID=America/Bogota:20210917T000000
DTEND;TZID=America/Bogota:20210917T235959
SUMMARY:Día de Amor y Amistad
URL:https://www.ascolfa.org/index.php/calendario-ascolfa/16-general/25-dia-
 de-amor-y-amistad
X-ALT-DESC;FMTTYPE=TEXT/HTML:<p>Día de Amor y Amistad</p>
END:VEVENT
END:VCALENDAR
