BEGIN:VCALENDAR
VERSION:2.0
PRODID:-//https://www.ascolfa.org//NONSGML kigkonsult.se iCalcreator 2.29.2
 9//
CALSCALE:GREGORIAN
METHOD:PUBLISH
UID:6c4d9658-b22d-4ee9-9800-c15f077a62da
X-WR-CALNAME:JCal Pro Calendar
X-WR-CALDESC:Tu calendario de eventos online.
X-WR-TIMEZONE:America/Bogota
BEGIN:VTIMEZONE
TZID:America/Bogota
BEGIN:STANDARD
TZNAME:-05
DTSTART:20240721T181429
TZOFFSETFROM:+0000
TZOFFSETTO:-0500
END:STANDARD
END:VTIMEZONE
BEGIN:VEVENT
UID:20220427T010000-05-0294PhFOzg@https://www.ascolfa.org/
DTSTAMP:20260422T181429Z
CATEGORIES:Educativo
DESCRIPTION:<p>Congreso Internacional Virtual Ascolfa INNPRENDE</p>
DTSTART;TZID=America/Bogota:20220427T000000
DTEND;TZID=America/Bogota:20220427T235959
SUMMARY:Congreso Internacional Virtual Ascolfa INNPRENDE
URL:https://www.ascolfa.org/index.php/calendario-ascolfa/13-educativo/106-c
 ongreso-internacional-virtual-ascolfa-innprende
X-ALT-DESC;FMTTYPE=TEXT/HTML:<p>Congreso Internacional Virtual Ascolfa INNP
 RENDE</p>
END:VEVENT
END:VCALENDAR
