BEGIN:VCALENDAR
VERSION:2.0
PRODID:-//https://www.ascolfa.org//NONSGML kigkonsult.se iCalcreator 2.29.2
 9//
CALSCALE:GREGORIAN
METHOD:PUBLISH
UID:11fe6cca-c8ca-4b85-ace0-573026ae1abd
X-WR-CALNAME:JCal Pro Calendar
X-WR-CALDESC:Tu calendario de eventos online.
X-WR-TIMEZONE:America/Bogota
BEGIN:VTIMEZONE
TZID:America/Bogota
BEGIN:STANDARD
TZNAME:-05
DTSTART:20240719T012532
TZOFFSETFROM:+0000
TZOFFSETTO:-0500
END:STANDARD
END:VTIMEZONE
BEGIN:VEVENT
UID:20230913T080000-05-0631HNUxL5@https://ascolfa.org/
DTSTAMP:20260420T012532Z
CATEGORIES:Educativo
DESCRIPTION:<p>Feria del Conocimiento - Encuentro de Editoriales\, Revistas
  Científicas e Investigadores - Bogotá</p>
DTSTART;TZID=America/Bogota:20230913T000000
DTEND;TZID=America/Bogota:20230913T235959
SUMMARY:Feria del Conocimiento
URL:https://www.ascolfa.org/index.php/calendario-ascolfa/13-educativo/122-f
 eria-del-conocimiento
X-ALT-DESC;FMTTYPE=TEXT/HTML:<p>Feria del Conocimiento - Encuentro de Edito
 riales\, Revistas Científicas e Investigadores - Bogotá</p>
END:VEVENT
BEGIN:VEVENT
UID:20230927T140000-05-5801HfNvWo@https://ascolfa.org/
DTSTAMP:20260420T012532Z
CATEGORIES:Conferencias
DESCRIPTION:<p>Conferencia Internacional ASCOLFA 2023 - Industria 5.0 y el 
 Futuro de las Escuelas de Negocios</p>
DTSTART;TZID=America/Bogota:20230927T140000
DTEND;TZID=America/Bogota:20230929T190000
SUMMARY:Conferencia Internacional ASCOLFA 2023
URL:https://www.ascolfa.org/index.php/calendario-ascolfa/15-conferencia/116
 -conferencia-ascolfa-2023
X-ALT-DESC;FMTTYPE=TEXT/HTML:<p>Conferencia Internacional ASCOLFA 2023 - In
 dustria 5.0 y el Futuro de las Escuelas de Negocios</p>
END:VEVENT
END:VCALENDAR
