BEGIN:VCALENDAR
VERSION:2.0
PRODID:-//https://www.ascolfa.org//NONSGML kigkonsult.se iCalcreator 2.29.2
 9//
CALSCALE:GREGORIAN
METHOD:PUBLISH
UID:e5c6d163-ca61-415f-a5e4-0dd6b94f7d7a
X-WR-CALNAME:JCal Pro Calendar
X-WR-CALDESC:Tu calendario de eventos online.
X-WR-TIMEZONE:America/Bogota
BEGIN:VTIMEZONE
TZID:America/Bogota
BEGIN:STANDARD
TZNAME:-05
DTSTART:20240718T222946
TZOFFSETFROM:+0000
TZOFFSETTO:-0500
END:STANDARD
END:VTIMEZONE
BEGIN:VEVENT
UID:20231103T140000-05-5189tOHiO9@https://ascolfa.org/
DTSTAMP:20260419T222946Z
CATEGORIES:General
DESCRIPTION:<p>Celebración Día del Administrador </p>
DTSTART;TZID=America/Bogota:20231103T000000
DTEND;TZID=America/Bogota:20231103T235959
SUMMARY:Celebración Día del Administrador
URL:https://www.ascolfa.org/index.php/calendario-ascolfa/16-general/125-cel
 ebracion-dia-del-administrador
X-ALT-DESC;FMTTYPE=TEXT/HTML:<p>Celebración Día del Administrador </p>
END:VEVENT
END:VCALENDAR
