BEGIN:VCALENDAR
VERSION:2.0
PRODID:-//https://www.ascolfa.org//NONSGML kigkonsult.se iCalcreator 2.29.2
 9//
CALSCALE:GREGORIAN
METHOD:PUBLISH
UID:282bc0c4-1793-4921-b8e1-0a972dd2dfe7
X-WR-CALNAME:JCal Pro Calendar
X-WR-CALDESC:Tu calendario de eventos online.
X-WR-TIMEZONE:America/Bogota
BEGIN:VTIMEZONE
TZID:America/Bogota
BEGIN:STANDARD
TZNAME:-05
DTSTART:20240718T153417
TZOFFSETFROM:+0000
TZOFFSETTO:-0500
END:STANDARD
END:VTIMEZONE
BEGIN:VEVENT
UID:20240416T140000-05-1413ZEGgiA@https://ascolfa.org/
DTSTAMP:20260419T153417Z
CATEGORIES:General
DESCRIPTION:<p>Día Mundial del Emprendimiento</p>
DTSTART;TZID=America/Bogota:20240416T000000
DTEND;TZID=America/Bogota:20240416T235959
RRULE:FREQ=YEARLY;COUNT=2;INTERVAL=1
SUMMARY:Día Mundial del Emprendimiento
URL:https://www.ascolfa.org/index.php/calendario-ascolfa/16-general/141-dia
 -mundial-del-emprendimiento
X-ALT-DESC;FMTTYPE=TEXT/HTML:<p>Día Mundial del Emprendimiento</p>
END:VEVENT
BEGIN:VEVENT
UID:20240426T000000-05-9246Hb2gld@https://ascolfa.org/
DTSTAMP:20260419T153417Z
CATEGORIES:General
DESCRIPTION:<p>Día de la Secretaria</p>
DTSTART;TZID=America/Bogota:20240426T000000
DTEND;TZID=America/Bogota:20240426T235959
RRULE:FREQ=YEARLY;COUNT=2;INTERVAL=1
SUMMARY:Día de la Secretaria
URL:https://www.ascolfa.org/index.php/calendario-ascolfa/16-general/138-dia
 -de-la-secretaria
X-ALT-DESC;FMTTYPE=TEXT/HTML:<p>Día de la Secretaria</p>
END:VEVENT
END:VCALENDAR
