BEGIN:VCALENDAR
VERSION:2.0
PRODID:-//https://www.ascolfa.org//NONSGML kigkonsult.se iCalcreator 2.29.2
 9//
CALSCALE:GREGORIAN
METHOD:PUBLISH
UID:e00ffe12-eb2a-4406-b8c5-ef05c3647d52
X-WR-CALNAME:JCal Pro Calendar
X-WR-CALDESC:Tu calendario de eventos online.
X-WR-TIMEZONE:America/Bogota
BEGIN:VTIMEZONE
TZID:America/Bogota
BEGIN:STANDARD
TZNAME:-05
DTSTART:20240718T200126
TZOFFSETFROM:+0000
TZOFFSETTO:-0500
END:STANDARD
END:VTIMEZONE
BEGIN:VEVENT
UID:20240703T100000-05-6498G5l74O@https://ascolfa.org/
DTSTAMP:20260419T200126Z
CATEGORIES:General
DESCRIPTION:<p>Día del Economista</p>
DTSTART;TZID=America/Bogota:20240703T000000
DTEND;TZID=America/Bogota:20240703T235959
RRULE:FREQ=YEARLY;COUNT=2;INTERVAL=1
SUMMARY:Día del Economista
URL:https://www.ascolfa.org/index.php/calendario-ascolfa/16-general/134-dia
 -del-economista
X-ALT-DESC;FMTTYPE=TEXT/HTML:<p>Día del Economista</p>
END:VEVENT
END:VCALENDAR
