BEGIN:VCALENDAR
VERSION:2.0
PRODID:-//https://www.ascolfa.org//NONSGML kigkonsult.se iCalcreator 2.29.2
 9//
CALSCALE:GREGORIAN
METHOD:PUBLISH
UID:47427215-6ed0-48da-8f2a-6eb1bf22f731
X-WR-CALNAME:JCal Pro Calendar
X-WR-CALDESC:Tu calendario de eventos online.
X-WR-TIMEZONE:America/Bogota
BEGIN:VTIMEZONE
TZID:America/Bogota
BEGIN:STANDARD
TZNAME:-05
DTSTART:20240718T232005
TZOFFSETFROM:+0000
TZOFFSETTO:-0500
END:STANDARD
END:VTIMEZONE
BEGIN:VEVENT
UID:20240925T080000-05-0587n7gmU7@https://ascolfa.org/
DTSTAMP:20260419T232005Z
CATEGORIES:Conferencias
DESCRIPTION:<p>Conferencia internacional ASCOLFA 2024</p>
DTSTART;TZID=America/Bogota:20240924T080000
DTEND;TZID=America/Bogota:20240926T133000
SUMMARY:Conferencia internacional ASCOLFA 2024
URL:https://www.ascolfa.org/index.php/calendario-ascolfa/15-conferencia/142
 -conferencia-internacional-ascolfa-2024
X-ALT-DESC;FMTTYPE=TEXT/HTML:<p>Conferencia internacional ASCOLFA 2024</p>
END:VEVENT
END:VCALENDAR
