BEGIN:VCALENDAR
VERSION:2.0
PRODID:-//https://www.ascolfa.org//NONSGML kigkonsult.se iCalcreator 2.29.2
 9//
CALSCALE:GREGORIAN
METHOD:PUBLISH
UID:4c78ac95-161a-48e8-a53c-aac1c772b903
X-WR-CALNAME:JCal Pro Calendar
X-WR-CALDESC:Tu calendario de eventos online.
X-WR-TIMEZONE:America/Bogota
BEGIN:VTIMEZONE
TZID:America/Bogota
BEGIN:STANDARD
TZNAME:-05
DTSTART:20240719T022834
TZOFFSETFROM:+0000
TZOFFSETTO:-0500
END:STANDARD
END:VTIMEZONE
BEGIN:VEVENT
UID:20241112T080000-05-87154XjNkv@https://ascolfa.org/
DTSTAMP:20260420T022834Z
CATEGORIES:General
DESCRIPTION:<p>Día del Administrador</p>
DTSTART;TZID=America/Bogota:20241104T000000
DTEND;TZID=America/Bogota:20241104T235959
RRULE:FREQ=YEARLY;COUNT=2;INTERVAL=1
SUMMARY:Día del  Administrador
URL:https://www.ascolfa.org/index.php/calendario-ascolfa/16-general/144-dia
 -del-administrador
X-ALT-DESC;FMTTYPE=TEXT/HTML:<p>Día del Administrador</p>
END:VEVENT
BEGIN:VEVENT
UID:20241104T000000-05-7773juJ1gx@https://ascolfa.org/
DTSTAMP:20260420T022834Z
CATEGORIES:General
DESCRIPTION:<p>Día del Administrador</p>
DTSTART;TZID=America/Bogota:20241112T080000
DTEND;TZID=America/Bogota:20241115T190000
SUMMARY:Día del Administrador - 2024
URL:https://www.ascolfa.org/index.php/calendario-ascolfa/16-general/137-dia
 -del-administrador-2024
X-ALT-DESC;FMTTYPE=TEXT/HTML:<p>Día del Administrador</p>
END:VEVENT
END:VCALENDAR
